BEGIN:VCALENDAR
PRODID:NingEventWidget-v1
VERSION:2.0
METHOD:PUBLISH
BEGIN:VTIMEZONE
TZID:Asia/Tbilisi
X-LIC-LOCATION:Asia/Tbilisi
BEGIN:STANDARD
TZOFFSETFROM:+0400
TZOFFSETTO:+0400
TZNAME:GET
DTSTART:19700101T000000
END:STANDARD
END:VTIMEZONE
BEGIN:VEVENT
UID:6506411:Event:1563081
DTSTAMP:20260421T042215Z
SUMMARY:Accurate and scientific take on the RuneScape game's gameplay 
 system
DESCRIPTION:For players looking for a new source of MMO information sh
 ould search for a comprehensive site that contains information about e
 quipment and skills, quests as well as raids. This is what happens wit
 h Wiki, an alternate to the RuneScape Wiki. It is a reinterpretation o
 n the subject, RS Wiki is an improved model of RuneScape Wiki, still d
 etailing details about character development as well as quests and oth
 er things to look out for.\r\nWhat is it that makes RS Wiki set itself
  apart from RuneScape Wiki is its fanbase that is active which is freq
 uently updated. They even are the only one with its own Discord server
  on which fans are able to discuss a range of ways to play.\r\nPlayers
  who wish to step up their game going and make sure they make sure the
 y take your RuneScape experience seriously will want to dive deep into
  the meta. Like other MMORPG sites, Rune Tips is a more accurate and s
 cientific take on the RuneScape game's gameplay system. Instead of mer
 ely providing guidelines and tricks, Rune Tips also has information on
  specific aspects of the game as well as its surroundings.\r\nThey als
 o provide information about the mythology while at same time providing
  detailed guide to skills and hunting RuneScape bosses as well with a 
 skill calculator. Additionally, Rune Tips also has an extensive databa
 se of clans which allows players to search for current guilds and ongo
 ing war-related events.\r\nContrary to other MMO websites that offer g
 uides to player experience, RuneApps is a RuneScape 3 game site that c
 oncentrates on browser applets rather than. In the past, with MMOs, li
 ke World of Warcraft, small apps like add-ons were \"added\" to improv
 e aspects of the game for example, like the addition of quest points t
 hat aren't usually found in the standard game. The function that RuneA
 pps provides RuneApps is similar, as browser applets are designed to e
 nhance the experience of players when using RuneScape 3.\r\nThe most w
 ell-known applet that is available in RuneApps is that of the Alt1 Too
 lkit, which is an assortment of applets that provide a lot of quality-
 of-life enhancements to RS3. They include stats lookups to discover th
 e instant characteristics of players as well as immediate access to wi
 ki pages for monsters and objects when right-clicked during RuneScape 
 farming or an applet that allows players to grind or farm while they w
 atch YouTube and Twitch within the same window.\r\nOne of the most eff
 ective methods to connect with fans about everything RuneScape is by j
 oining the RuneScape Discord group. While there are a myriad of fan-cr
 eated RuneScape communities exist however, this Jagex-responsible Rune
 Scape \n\nდამატებითი ინფორმაცი
 სათვის შესვლა https://qwelly.com/events/accu
 rate-and-scientific-take-on-the-runescape-game-s-gameplay
DTSTART;TZID=Asia/Tbilisi:20240423T151500
DTEND;TZID=Asia/Tbilisi:20240425T190000
CATEGORIES:osrs, gold, cheap
LOCATION:Bundesland auswählen
WEBSITE:
URL:
CONTACT:
ORGANIZER;CN="millan Myra":https://qwelly.com/profile/millanMyra
ATTACH;FMTTYPE="image/jpeg":
ATTENDEE;ROLE=REQ-PARTICIPANT;PARTSTAT=ACCEPTED;RSVP=TRUE;CN="millan M
 yra":https://qwelly.com/profile/millanMyra
END:VEVENT
END:VCALENDAR
