BEGIN:VCALENDAR
PRODID:NingEventWidget-v1
VERSION:2.0
METHOD:PUBLISH
BEGIN:VTIMEZONE
TZID:Asia/Tbilisi
X-LIC-LOCATION:Asia/Tbilisi
BEGIN:STANDARD
TZOFFSETFROM:+0400
TZOFFSETTO:+0400
TZNAME:GET
DTSTART:19700101T000000
END:STANDARD
END:VTIMEZONE
BEGIN:VEVENT
UID:6506411:Event:1327196
DTSTAMP:20260421T155116Z
SUMMARY:Effect of Stress
DESCRIPTION:Students involvement and manage pressure as well When that
  happens, you can enlist the top essay writing services reviews. The r
 esults that they experience from pressure can lead them to consider st
 opping the scholarly trip in some cases. Be that as it may, this in fu
 ndamentally not the right choice to make when you are overpowered with
  the school challenges confronted. When you are uncertain about your c
 oursework, it is fitting that you visit your scholarly counsel. They w
 ill help you to comprehend your course necessities, and whether it is 
 an ideal choice for you. In any case, in the event that you are energe
 tic about the course, at that point your academic guides' supposition 
 ought not to prevent you from finishing on it. You need to discover an
  examination procedure that is best for you to utilize when you are pr
 eparing your course data. The difficulties not just help you to get a 
 handle on the data. You get the opportunity to comprehend your course 
 better, and in the long run the circumstance will show you to wind up 
 a daring person in future. Stress can take a negative turn for Student
 s now and then. For a few Students, it could without much of a stretch
  prompt discouragement that could make them winding wild with regards 
 to their scholarly trip. The expert authors will help you to deliver t
 he reports. A few Students like to stop it halfway too on the grounds 
 that they can't deal with the weights included. Going by the school gu
 ide is prudent on such events so they can assist you with calming down
 . You are not by any means the only understudy who has encountered the
  difficulties.\n\nდამატებითი ინფორმა
 ციისათვის შესვლა https://qwelly.com/even
 ts/effect-of-stress
DTSTART;TZID=Asia/Tbilisi:20180525T180000
DTEND;TZID=Asia/Tbilisi:20180525T190000
CATEGORIES:assignment, help
LOCATION:Foxburg, PA
WEBSITE:https://nsw-writers.com/
URL:https://nsw-writers.com/
CONTACT:
ORGANIZER;CN=Sanders:https://qwelly.com/profile/Sanders
ATTACH;FMTTYPE="image/jpeg":
ATTENDEE;ROLE=REQ-PARTICIPANT;PARTSTAT=ACCEPTED;RSVP=TRUE;CN=Sanders:h
 ttps://qwelly.com/profile/Sanders
ATTENDEE;ROLE=REQ-PARTICIPANT;PARTSTAT=TENTATIVE;RSVP=TRUE;CN=George:h
 ttps://qwelly.com/profile/qwelly
END:VEVENT
END:VCALENDAR
