BEGIN:VCALENDAR
PRODID:NingEventWidget-v1
VERSION:2.0
METHOD:PUBLISH
BEGIN:VTIMEZONE
TZID:Asia/Tbilisi
X-LIC-LOCATION:Asia/Tbilisi
BEGIN:STANDARD
TZOFFSETFROM:+0400
TZOFFSETTO:+0400
TZNAME:GET
DTSTART:19700101T000000
END:STANDARD
END:VTIMEZONE
BEGIN:VEVENT
UID:6506411:Event:1565598
DTSTAMP:20260422T094624Z
SUMMARY:A Scottish fullback Andrew Robertson, currently playing for Li
 verpool
DESCRIPTION: A Scottish fullback Andrew Robertson  currently playing 
 for Liverpool is well-known for his running down the left side and his
  excellent implementation of sets pieces and also for his ferocious de
 fensive approach. He has everything managers could need from a player 
 at the position. With an overall rating of 87 that includes 84-rated p
 ace and an 82 defensive rating it's a great value for the 27.000-coin 
 cost.\r\nFor those with smaller budgets, they can take comfort by refe
 rring to Alex Telles, a Brazilian left-back at Manchester United. His 
 speed (83) and ability to pass (82) are in line with Robertson's stats
  on attacking. Although he might not be more effective in defense than
  the Scot but he's only 2.000 coins, so purchasing his services is a s
 imple decision for anyone searching for a fast left-back replacement.\
 r\nMo Salah, the \"Egyptian King,\" is currently tearing through in th
 e Premier League, scoring goals in almost every game that he is a part
  of. For FC 24. His stats are astonishing. With his 90-degree pace, ra
 ting for dribbling, as well as shooting that is rated 87. it's nothing
  less than Salah when it comes to Premier League wingers. Of course th
 e benefit of him being part of the team comes with an expensive price,
  which is around 35.000 coins.\r\nRaphinha's 82 OVR score is a bit mis
 leading as the player has 91 speed and 84 dribbling, his total score i
 s largely impacted by his minor skills that don't need to be considere
 d for an attacking player like his 49-rated defensive. FUT players see
 king an agile reliable, reliable winger needn't consider spending 3.00
 0 coins on this Leeds star.\r\nCentral Midfielders Best choices: Kevin
  De Bruyne and Bruno Fernandes Budget options: Kai Havertz and Ilkay G
 undogan Other options: N'Golo Kanté and Paul Pogba\r\n\r\nFor those s
 eeking two top midfielders that are affordable and not a burden on the
  budget are best off looking at Manchester United's Paul Pogba. The Fr
 ench pair may not be the most docile of midfielders however they more 
 than can make up for that by their ability to pass and their physicali
 ty. Two cards that have the 87 (Pogba) as well as 90 (Kante) total sco
 res in under 70.000 coins is a true bargain for those looking to enhan
 ce their midfield.\r\nHeung Min Son is one of the best balanced player
 s on the field in FC 24. This explains the high 35.000-coin cost. With
  a rated 88-speed and 87 shooting percentage, he has an average dribbl
 ing rate of 85. He is among the most versatile players on the wing tha
 t is sure to rack up many goals and assists throughout the course of m
 ost games.\r\nThe Liverpool's Diogo Jota is definitely a lower-end ver
 sion of Tottenham's Son however, he's an extremely solid left-winger a
 nd, more importantly, the cost is only about 1.500 coins on the FUT op
 en market. With his speed and dribbling abilities, as well as shooting
  scores that are in the 80s and an excellent return on investment when
  managers are bringing him in to be a bench option\n\nდამატ
 ბითი ინფორმაციისათვის შე
 სვლა https://qwelly.com/events/fullback-andrew
DTSTART;TZID=Asia/Tbilisi:20240622T180000
DTEND;TZID=Asia/Tbilisi:20240622T190000
CATEGORIES:rs, gold, for, sale, osrs
LOCATION:Bundesland auswählen
WEBSITE:
URL:
CONTACT:
ORGANIZER;CN="millan Myra":https://qwelly.com/profile/millanMyra
ATTACH;FMTTYPE="image/jpeg":
ATTENDEE;ROLE=REQ-PARTICIPANT;PARTSTAT=ACCEPTED;RSVP=TRUE;CN="millan M
 yra":https://qwelly.com/profile/millanMyra
END:VEVENT
END:VCALENDAR
