BEGIN:VCALENDAR
PRODID:NingEventWidget-v1
VERSION:2.0
METHOD:PUBLISH
BEGIN:VTIMEZONE
TZID:Asia/Tbilisi
X-LIC-LOCATION:Asia/Tbilisi
BEGIN:STANDARD
TZOFFSETFROM:+0400
TZOFFSETTO:+0400
TZNAME:GET
DTSTART:19700101T000000
END:STANDARD
END:VTIMEZONE
BEGIN:VEVENT
UID:6506411:Event:1153799
DTSTAMP:20260421T175946Z
SUMMARY:ქართული კულტურის მოამა
 გეთა დაჯილდოება-კონცერტი
DESCRIPTION:რუსთაველის თეატრში, 8 
 ვნისს, 20:00-ზე გაიმართება ქა
 თული კულტურის საღამო (საზ
 იმო კონცერტი).\nსაღამოზე და
 აჯილდოვებენ იმ მოღვაწე ად
 მიანებს და ანსამბლებს, რო
 ლებმაც ქართული კულტურის, 
 ალობის, ხალხური სიმღერის
  და ცეკვის აღორძნებაში, გა
 ვითარებასა და პოპულარიზა
 ციაში განსაკუთრებული წვლ
 ლი შეიტანეს.\nდაჯილდოებას 
 ამართავს ფონდი \"ქართული გ
 ალობა\".\nჯილდოები გადაეცემ
 თ სხვადასხვა ნომინაციები
 ს მიხედვით.\nნომინაციაში წ
 რდგენილთა სია 7 ივნისს, პრე
 ნსკოფერენციაზე გახდება ც
 ობილი.\nფონდი \"ქართული გალ
 ბა\" უკვე მეოთხე წელია მართ
 ავს მსგავს დაჯილდოება-კონ
 ერტს.\nწელს, კონცერტის სხვ
  მონაწილეთა შორის იქნება 
 ვეტიცხოვლის ვაჟთა გუნდი.\n\
 n\n\nდამატებითი ინფორმაციის
 თვის შესვლა https://qwelly.com/events/galoba
DTSTART;TZID=Asia/Tbilisi:20160608T200000
DTEND;TZID=Asia/Tbilisi:20160608T220000
CATEGORIES:დაჯილდოება, კონცერტი
LOCATION:რუსთაველის თეატრი
WEBSITE:
URL:
CONTACT:
ORGANIZER:ფონდი \"ქართული გალობა\"
ATTACH;FMTTYPE="image/jpeg":http://storage.ning.com/topology/rest/1.0/
 file/get/2296736257?profile=original
ATTENDEE;ROLE=REQ-PARTICIPANT;PARTSTAT=ACCEPTED;RSVP=TRUE;CN=ლაშ
 ა:https://qwelly.com/profile/lshisa
ATTENDEE;ROLE=REQ-PARTICIPANT;PARTSTAT=ACCEPTED;RSVP=TRUE;CN=BrOliKa:h
 ttps://qwelly.com/profile/BrolikaQiqava
ATTENDEE;ROLE=REQ-PARTICIPANT;PARTSTAT=ACCEPTED;RSVP=TRUE;CN=George:ht
 tps://qwelly.com/profile/qwelly
END:VEVENT
END:VCALENDAR
