BEGIN:VCALENDAR
PRODID:NingEventWidget-v1
VERSION:2.0
METHOD:PUBLISH
BEGIN:VTIMEZONE
TZID:Asia/Tbilisi
X-LIC-LOCATION:Asia/Tbilisi
BEGIN:STANDARD
TZOFFSETFROM:+0400
TZOFFSETTO:+0400
TZNAME:GET
DTSTART:19700101T000000
END:STANDARD
END:VTIMEZONE
BEGIN:VEVENT
UID:6506411:Event:1567623
DTSTAMP:20260425T061104Z
SUMMARY:For avid gamers of the game
DESCRIPTION: In the Ultimate Team mode sees players create their own t
 eam using a list made up of real-world league players and a range of s
 kills. The primary goal of the mode is to  and build the team's perf
 ormance over time and eventually , have the top players in real life w
 ho have strong stats in order to gain the greatest benefits from gamin
 g.\r\nPlayers can be purchased from the market for in-game transfers w
 hich can be found in the transfer market, with prices for premium play
 ers and their exclusive cards ranging from thousands of coins. In this
  manner, the game requires opening loot boxes in game or \"packs\" whe
 n a player would like to have a chance at playing with the most sought
 -after cards. In the context of FIFA series dominating UK charts for s
 ales the use of microtransactions is now a common practice within the 
 gaming community, which sets apart from the loudly angry players from 
 Diablo Immortal.\r\nThe two games FC 24 along with Naraka: Bladepoint 
 release on consoles along with PC through Xbox Game Pass today. FC 24 
 is replacing EA Sports FC 24 on June 31. The soccer simulator is repla
 cing the previous simulator with a different one. Naraka Bladepoint wi
 ll be available on the day of first consoles via Xbox Game Pass, and i
 t's bringing some extra games too.\r\nFC 24 has a number of improvemen
 ts over previous entries with more realistic match-ups with a better g
 ame's AI, greater difficulty and natural gameplay, enhanced VOLTA foot
 ball and a more enjoyable career mode. For avid gamers of the game, it
 's an excellent alternative for Xbox Game Pass. Regarding Naraka: Blad
 epoint, its normal 60-player game mode, which is focused on a fluid mo
 vements, hero skills as well as a great strategy for melee combat -- i
 s being enhanced by a game mode called \"Campaign.\r\nThen, Xbox Game 
 Pass has another game available for this coming month. Escape Academy.
  It's essentially an escape room game that is essentially a series of 
 virtual rooms where players have to be an ultimate Escapist by solving
  problems, hacking servers, confronting the professors and other playe
 rs. This is yet another fantastic local game for co-op players that jo
 in Xbox Game Pass.\n\nდამატებითი ინფორ
 აციისათვის შესვლა https://qwelly.com/
 events/game-it-s
DTSTART;TZID=Asia/Tbilisi:20240724T060000
DTEND;TZID=Asia/Tbilisi:20240726T190000
CATEGORIES:eafc, 24, coins, fut
LOCATION:Bundesland auswählen
WEBSITE:
URL:
CONTACT:
ORGANIZER;CN="millan Myra":https://qwelly.com/profile/millanMyra
ATTACH;FMTTYPE="image/jpeg":
ATTENDEE;ROLE=REQ-PARTICIPANT;PARTSTAT=ACCEPTED;RSVP=TRUE;CN="millan M
 yra":https://qwelly.com/profile/millanMyra
END:VEVENT
END:VCALENDAR
