BEGIN:VCALENDAR
PRODID:NingEventWidget-v1
VERSION:2.0
METHOD:PUBLISH
BEGIN:VTIMEZONE
TZID:Asia/Tbilisi
X-LIC-LOCATION:Asia/Tbilisi
BEGIN:STANDARD
TZOFFSETFROM:+0400
TZOFFSETTO:+0400
TZNAME:GET
DTSTART:19700101T000000
END:STANDARD
END:VTIMEZONE
BEGIN:VEVENT
UID:6506411:Event:1566372
DTSTAMP:20260425T225321Z
SUMMARY:The Guy With A Gun In A Knife Fight
DESCRIPTION:A lot of people are calling the Ranger the strongest class
  in the sport Dark And Darker Gold, and whilst this is a chunk of an e
 xaggeration, there may be some reality to these claims. The Ranger has
  absurd ranged harm with bows in combination with their Perks, super v
 icinity-denial options with bear traps and Quick-Shot, and even innate
  restoration with Rations. An archer elegance with get entry to to inf
 inite arrows in a sport in which both the protective and evasive alter
 natives are sparse is certainly terrifying. Everyone having guns in Es
 cape from Tarkov was one thing, but this is completely distinctive.\r\
 nThis is exactly why the Ranger works nicely in solo play. Even the mo
 st veteran Dark and Darker players still get hit by AI enemies from ti
 me to time, but the Ranger's combat loop basically gets rid of that th
 reat. Plus, towards actual gamers, a nicely-placed Ranger can easily f
 ight and win against a three-character squad unmarried-handedly. And, 
 even though their combatants do manage to close the space, Rangers can
  use their innate movement speed and endure traps to outrun and frustr
 ate their pursuers before finishing them off with a bolt as quickly as
  they permit their guards down.\r\nThe Fighter: A True Swiss Army Knif
 e Class Where Rangers are a brilliant solo elegance because of their o
 verall utility in areas, ranged fight and pace, Fighters are properly 
 solo instructions because of their widespread software in all areas. F
 ighters have proper health, true defense, desirable offense, appropria
 te survivability, top Perks, proper Skills, and are simply all-round p
 retty excellent. However, be aware how none of their aspects are descr
 ibed as 'notable' or 'outstanding'.\r\nYes, Fighters are accurate at m
 aximum things, however they may be not clearly the 'high-quality' at s
 ome thing in exchange. Their average melee damage is not as right as a
  Barbarian's, they may be no longer nearly as speedy as a Rogue or Ran
 ger, and that they don't have access to Spells like a Cleric or Wizard
  does. But, for a solo player, a properly-geared Fighter (each in term
 s of armor and weapons) will provide them the overall maximum chance o
 f survival against the odds. Now, Fighters can not without problems 1v
 3 an enemy group, but they will typically stay lengthy sufficient to t
 ry to and have the best risk of dwelling to try to escape if they can'
 t.\r\nThe Cleric: Tons Of Healing In A Game Where Healing Is Sparse An
 d sooner or later, there are Clerics. In wellknown Clerics are excelle
 nt solo training for a lot of the identical motives Fighters are. Thei
 r offense isn't horrible, their defense is respectable, and that they 
 also can use a protect. But, in which the Cleric excels solely is of t
 heir basic survivability and PvE software. Clerics have a mess of spel
 ls that deal damage to undead which include Holy Light and their Holy 
 Purification Skill. Not simplest that, but they may be also able to ma
 intain themselves alive plenty longer on common than every other elega
 nce might by the usage of each Lesser Heal and Holy Light.\r\nThat sai
 d, while Clerics are accurate for solo gamers, they still shine the br
 ightest when in a crew due to the fact they are able to heal their har
 m sellers mid-combat and even revive teammates with a spell. But for a
 nyone simply trying to play on their very own and survive towards enem
 y squads to Cheap Dark And Darker Gold, a Cleric is a pretty good eleg
 ance desire.\n\nდამატებითი ინფორმა
 იისათვის შესვლა https://qwelly.com/events
 /guy-with-a-gun-in-a-knife-fight
DTSTART;TZID=Asia/Tbilisi:20240705T081500
DTEND;TZID=Asia/Tbilisi:20240706T190000
CATEGORIES:dark, and, darker, gold, cheap
LOCATION:Bundesland auswählen
WEBSITE:
URL:
CONTACT:
ORGANIZER;CN="millan Myra":https://qwelly.com/profile/millanMyra
ATTACH;FMTTYPE="image/jpeg":
ATTENDEE;ROLE=REQ-PARTICIPANT;PARTSTAT=ACCEPTED;RSVP=TRUE;CN="millan M
 yra":https://qwelly.com/profile/millanMyra
END:VEVENT
END:VCALENDAR
