BEGIN:VCALENDAR
PRODID:NingEventWidget-v1
VERSION:2.0
METHOD:PUBLISH
BEGIN:VTIMEZONE
TZID:Asia/Tbilisi
X-LIC-LOCATION:Asia/Tbilisi
BEGIN:STANDARD
TZOFFSETFROM:+0400
TZOFFSETTO:+0400
TZNAME:GET
DTSTART:19700101T000000
END:STANDARD
END:VTIMEZONE
BEGIN:VEVENT
UID:6506411:Event:1566312
DTSTAMP:20260426T003615Z
SUMMARY:Its Ironman mode is a great new feature
DESCRIPTION:Everything is tied to it. Skills integrate and flow togeth
 er in a way that all of it helps develop your character OSRS gold. I'm
  not sure any other game can do this better than Runescape and it's li
 kely to be beneficial, considering that because an experience that's b
 een in existence for as long as Runescape has to have a motive for its
  longevity in the category. Its Ironman mode is a great new feature in
  an old game. Long may it last.\r\nOld school RuneScape players who wa
 nt to earn new skins and cosmetics through slogging across the classic
  game's contents can begin doing so today, when the game launches the 
 brand new Quest Speedrunning Worlds. The server is an entirely distinc
 t members-only variant of the game that has specific rules and restric
 tions.\r\nIn order to begin a speedrunning session participants will h
 ave to choose a challenge upon logging on to the server. This quest th
 ey'll need to finish as quickly as they can. To ensure fairness in the
  competition the character's level will be automatically adapted to th
 e appropriate level for the quest chosen. The quests will only be avai
 lable when the game launches and ten more will be added in the coming 
 five months.\r\nPoints and awards for Speedrunning are given based on 
 the speed at which the quest can be completed. These points can be use
 d to purchase a variety of cosmetic and reward items, such as Adventur
 er's Outfits with different tiers, Speedy Teleport Scrolls, and the Gi
 ant Stopwatch item. Quest Speedrunning World is open! Quest Speedrunni
 ng World is officially in operation as of this writing to those who wi
 sh to tackle the challenge. \"Quest Speedrunning Worlds open. Go to th
 e Quest Speedrunning World and smash those bars!\" Jagex tweeted. \"Sh
 ow us your fastest times, but above all else, enjoy yourself!\"\r\nJag
 ex revealed today as part of the 300 million account celebrations, the
 y'll launch Fresh Start servers for RuneScape and Old School RuneScape
  on September 12th for RS3 and in October for OSRS. The name suggests 
 that they'll be completely new servers on which players can begin from
  scratch in the same way as all other players to OSRS buy gold. The se
 rvers that are fresh starts are only available for a certain period of
  time (4 months) and characters will be moved to normal servers follow
 ing the duration of the event.\n\nდამატებითი ი
 ფორმაციისათვის შესვლა https:/
 /qwelly.com/events/its-ironman
DTSTART;TZID=Asia/Tbilisi:20240702T080000
DTEND;TZID=Asia/Tbilisi:20240703T190000
CATEGORIES:osrs, gold, buy
LOCATION:Bundesland auswählen
WEBSITE:
URL:
CONTACT:
ORGANIZER;CN="millan Myra":https://qwelly.com/profile/millanMyra
ATTACH;FMTTYPE="image/jpeg":
ATTENDEE;ROLE=REQ-PARTICIPANT;PARTSTAT=ACCEPTED;RSVP=TRUE;CN="millan M
 yra":https://qwelly.com/profile/millanMyra
END:VEVENT
END:VCALENDAR
