BEGIN:VCALENDAR
PRODID:NingEventWidget-v1
VERSION:2.0
METHOD:PUBLISH
BEGIN:VTIMEZONE
TZID:Asia/Tbilisi
X-LIC-LOCATION:Asia/Tbilisi
BEGIN:STANDARD
TZOFFSETFROM:+0400
TZOFFSETTO:+0400
TZNAME:GET
DTSTART:19700101T000000
END:STANDARD
END:VTIMEZONE
BEGIN:VEVENT
UID:6506411:Event:737393
DTSTAMP:20260421T192520Z
SUMMARY:\"სიცოცხლის გადასარჩენ
 დ\"
DESCRIPTION:ყველას, ვისაც გსურთ 29 ი
 ვნისი სახალისოდ და სასარგ
 ბლოდ გაატაროთ, ორგანიზაც
 ა ჰერა დილის 10 საათიდან 3 - მ
 ე, გეპატიჟებათ კუს ტბაზე მ
 არათონში - \"სიცოცხლის გადა
 არჩენად\".\nP.S. სახეზეც მოგდღ
 აბნით მსურველებს :))))\n\nდამა
 ებითი ინფორმაციისათვის შ
 სვლა https://qwelly.com/events/life-safe
DTSTART;TZID=Asia/Tbilisi:20140629T220000
DTEND;TZID=Asia/Tbilisi:20140630T120000
CATEGORIES:მარათონი
LOCATION:კუს ტბა
WEBSITE:
URL:
CONTACT:
ORGANIZER:ჰერა, ჰელფინგ ჰენდი
ATTACH;FMTTYPE="image/jpeg":http://storage.ning.com/topology/rest/1.0/
 file/get/2296599088?profile=original
ATTENDEE;ROLE=REQ-PARTICIPANT;PARTSTAT=ACCEPTED;RSVP=TRUE;CN="თა _
  მო":https://qwelly.com/profile/tamunashurgaia
ATTENDEE;ROLE=REQ-PARTICIPANT;PARTSTAT=TENTATIVE;RSVP=TRUE;CN="nino bu
 bulashvili":https://qwelly.com/profile/ninobubulashvili
ATTENDEE;ROLE=REQ-PARTICIPANT;PARTSTAT=TENTATIVE;RSVP=TRUE;CN=ლა
 ა:https://qwelly.com/profile/lshisa
ATTENDEE;ROLE=REQ-PARTICIPANT;PARTSTAT=TENTATIVE;RSVP=TRUE;CN=tamo:htt
 ps://qwelly.com/profile/tamogogaladze
END:VEVENT
END:VCALENDAR
