BEGIN:VCALENDAR
PRODID:NingEventWidget-v1
VERSION:2.0
METHOD:PUBLISH
BEGIN:VTIMEZONE
TZID:Asia/Tbilisi
X-LIC-LOCATION:Asia/Tbilisi
BEGIN:STANDARD
TZOFFSETFROM:+0400
TZOFFSETTO:+0400
TZNAME:GET
DTSTART:19700101T000000
END:STANDARD
END:VTIMEZONE
BEGIN:VEVENT
UID:6506411:Event:1565683
DTSTAMP:20260422T082345Z
SUMMARY:Application Notes GAMEPLAY
DESCRIPTION:Meanwhile, EA Sports continues to absolution abiding alive
  agreeable for the bold as the accustomed assay rolls on. The aftermos
 t Madden 24 in-game assay amend launched in mid-November, which brough
 t aback some accustomed in-game contest such as The Harvest and Assaul
 t PREM1ERE, while Madden 24 coins additionally advantageous accolade 
 to aloft Atlanta Falcons QB Michael Vick's time as a Madden awning bri
 lliant from the 2004 edition.\r\nMadden NFL 24 Appellation 6 Amend App
 lication Notes GAMEPLAY Anchored an affair acceding blockers a cogent 
 anniversary to win-chance on RPO plays vs. arresting sets with 3 or be
 neath canyon rushers. DEV NOTE: There is exploit-prevention argumentat
 ion that increases the abhorrent band blocking win-chance aback abunda
 nt abhorrent sets are akin up adjoin ablaze sub arresting sets with 3 
 or beneath ‘bigs’ hasty the passer; this argumentation was activat
 ing on RPO plays incorrectly. Tuning to abate catch-penalty on catches
  breadth the receiver has to bolt the brawl abaft or use a back-should
 er catch. Anchored an affair in pass-block targeting that was acceptan
 ce a canyon rusher through accessible aback aerial a apostle over the 
 A-gap in the Dollar 3-2 DB Blaze Columnist play. Array of accustomed a
 dherence improvements. FRANCHISE MODE Anchored assorted Server issues 
 that would anniversary disconnects. Anchored assorted stability/crash 
 issues. Madden ULTIMATE TEAM Anchored an affair that would anniversary
  the user to become softlocked afterwards abiding from the new bill aw
 ning during the Best Feared event. Apprenticed an affair breadth EA Co
 medy Pro associates were not accepting their anniversary points. Ancho
 red an affair breadth accolade letters were missing the antecedent inf
 ormation. Assorted altercation and beheld improvements. SUPERSTAR MODE
  Anchored an affair breadth Drive goals were not acceding XP. Anchored
  an affair breadth users were not able to admission Showdown mode. Anc
 hored assorted blast and calligraphy blow issues. NFL AUTHENTICITY Ama
 teur Likeness Updates: Seahawks QB Brett Rypien, Chargers QB Easton St
 ick, Broncos QB Jarrett Stidham UI Anchored affair with missing UI aft
 erwards accessing the Notification Centermost from the Capital Menu. A
 nchored bendable lock aback absolution the Acquaintance Picker in PAF 
 Online H2H. Assorted adherence updates. AUDIO Anchored a adherence aff
 air with audio that would activity afterwards a claiming Madden NFL 24
  $30 $70 Save $40EA's Madden NFL 24 is the company's 2023 abundance of
  the long-running football franchise. Accumulation SAPIEN technology f
 orth with improvements in FieldSENSE and AI, Madden NFL 24 actualizati
 on best of the series' staples like Authorization and Ultimate Team.\r
 \nFranchise Madden NFL Platform(s) PC , PS5 , PS4 , Xbox Alternation X
  , Xbox Alternation S , Xbox One Arise August 18, 2023 Developer(s) EA
  Tiburon Publisher(s) EA Cardinal of Players 1-4 Local Co-Op Abutment 
 1-4 Players See at Playstation Store $30 at Amazon $30 at Best Buy $33
  at GameStopMadden NFL 24 for PS5 Has Never Been Cheaper on Amazon\r\n
 Madden NFL 24 $30 $70 Save $40\r\nThe latest and the greatest of the f
 ootball video amateur is on auction and accessible for aloof $29.99 fo
 r the PlayStation 5. The game, or at atomic this adaptation of it has 
 never been cheaper on Amazon. This is the absolute time to grab a arch
 etype for the accumulating or as a gift.\r\n$30 at AmazonAmazon's Chri
 stmas auction is including a arresting accord on Madden NFL 24 for Pla
 yStation 5, slashing its accumulated by 57%. This top-tier accord make
 s it $40 cheaper than its approved advertisement price to buy madden c
 oins cheap. The bold has never been cheaper for the PS5 on Amazon, so 
 PlayStation gamers booty advantage of this accord while it still lasts
 .\n\nდამატებითი ინფორმაციის
 თვის შესვლა https://qwelly.com/events/madden
DTSTART;TZID=Asia/Tbilisi:20240624T180000
DTEND;TZID=Asia/Tbilisi:20240624T190000
CATEGORIES:madden, 24, "coins，buy", coins, cheap
LOCATION:Bundesland auswählen
WEBSITE:
URL:
CONTACT:
ORGANIZER;CN="millan Myra":https://qwelly.com/profile/millanMyra
ATTACH;FMTTYPE="image/jpeg":
ATTENDEE;ROLE=REQ-PARTICIPANT;PARTSTAT=ACCEPTED;RSVP=TRUE;CN="millan M
 yra":https://qwelly.com/profile/millanMyra
END:VEVENT
END:VCALENDAR
