BEGIN:VCALENDAR
PRODID:NingEventWidget-v1
VERSION:2.0
METHOD:PUBLISH
BEGIN:VTIMEZONE
TZID:Asia/Tbilisi
X-LIC-LOCATION:Asia/Tbilisi
BEGIN:STANDARD
TZOFFSETFROM:+0400
TZOFFSETTO:+0400
TZNAME:GET
DTSTART:19700101T000000
END:STANDARD
END:VTIMEZONE
BEGIN:VEVENT
UID:6506411:Event:1566039
DTSTAMP:20260426T034214Z
SUMMARY:As a senile old man who is enjoying watching the scenery
DESCRIPTION:As a senile old man who is enjoying watching the scenery, 
 I could not avoid noticing the OSRS gold accomplishments of the compa
 ny. The ability to create your own way across Gielinor is a far enjoya
 ble experience when you realize that the only way to achieve it is due
  to your own determination and perseverance. It's a refreshing change 
 from an old game that's been in existence for a long time. The mechani
 c has also made me think on other MMO's. Is an ironman-inspired system
  applied to other games of the genre?\r\nThe answer is complex. The me
 chanic is able to work across a variety of games so long as they meet 
 the right elements in their game to support the player base, for insta
 nce, the game could require a variety of skills that players to put th
 eir time into and crafting systems. I think this method is particularl
 y effective for Runescape due to its tightly knit game world as well a
 s its loopable mechanism.\r\nEverything is tied to it. Skills integrat
 e and flow together in a way that all of it helps develop your charact
 er. I'm not sure any other game can do this better than Runescape and 
 it's likely to be beneficial, considering that because an experience t
 hat's been in existence for as long as Runescape has to have a motive 
 for its longevity in the category. Its Ironman mode is a great new fea
 ture in an old game. Long may it last.\r\nOld school RuneScape players
  who want to earn new skins and cosmetics through slogging across the 
 classic game's contents can begin doing so today, when the game launch
 es the brand new Quest Speedrunning Worlds. The server is an entirely 
 distinct members-only variant of the game that has specific rules and 
 restrictions.\r\nIn order to begin a speedrunning session participants
  will have to choose a challenge upon logging on to the server. This q
 uest they'll need to finish as quickly as they can. To ensure fairness
  in the competition the character's level will be automatically adapte
 d to the appropriate level for the quest chosen cheap OSRS gold. The q
 uests will only be available when the game launches and ten more will 
 be added in the coming five months.\n\nდამატებითი 
 ინფორმაციისათვის შესვლა ht
 tps://qwelly.com/events/man-who
DTSTART;TZID=Asia/Tbilisi:20240629T180000
DTEND;TZID=Asia/Tbilisi:20240629T190000
CATEGORIES:osrs, gold, cheap
LOCATION:Bundesland auswählen
WEBSITE:
URL:
CONTACT:
ORGANIZER;CN="millan Myra":https://qwelly.com/profile/millanMyra
ATTACH;FMTTYPE="image/jpeg":
ATTENDEE;ROLE=REQ-PARTICIPANT;PARTSTAT=ACCEPTED;RSVP=TRUE;CN="millan M
 yra":https://qwelly.com/profile/millanMyra
END:VEVENT
END:VCALENDAR
