BEGIN:VCALENDAR
PRODID:NingEventWidget-v1
VERSION:2.0
METHOD:PUBLISH
BEGIN:VTIMEZONE
TZID:Asia/Tbilisi
X-LIC-LOCATION:Asia/Tbilisi
BEGIN:STANDARD
TZOFFSETFROM:+0400
TZOFFSETTO:+0400
TZNAME:GET
DTSTART:19700101T000000
END:STANDARD
END:VTIMEZONE
BEGIN:VEVENT
UID:6506411:Event:512793
DTSTAMP:20260421T221846Z
SUMMARY:Qwelly_ს პოეზიის საღამო
DESCRIPTION: \n5 დეკემბერს, ხუთშაბა
 ს, 5 საათზე! \n \nსამების ლავრ
 ს ქვემოთ, ხარების ტაძარში 
 გაიმართება Qwelly_ს პოეზიის სა
 ღამო! \n \n • კარგი ლექსები; \n
 • თბილი გარემო; \n \n\nდამატე
 ითი ინფორმაციისათვის შეს
 ლა https://qwelly.com/events/qwelly
DTSTART;TZID=Asia/Tbilisi:20131205T173000
DTEND;TZID=Asia/Tbilisi:20131205T190000
CATEGORIES:პოეზიის_საღამო
LOCATION:სამების ლავრის ქვემოთ, 
 ხარების ტაძარი
WEBSITE:
URL:
CONTACT:551002948
ORGANIZER:Qwelly
ATTACH;FMTTYPE="image/jpeg":http://storage.ning.com/topology/rest/1.0/
 file/get/2296539055?profile=original
ATTENDEE;ROLE=REQ-PARTICIPANT;PARTSTAT=ACCEPTED;RSVP=TRUE;CN="alina ga
 goshidze":https://qwelly.com/profile/alinagagoshidze
ATTENDEE;ROLE=REQ-PARTICIPANT;PARTSTAT=ACCEPTED;RSVP=TRUE;CN=qeti:http
 s://qwelly.com/profile/qeti134
ATTENDEE;ROLE=REQ-PARTICIPANT;PARTSTAT=ACCEPTED;RSVP=TRUE;CN=თათ
 ია:https://qwelly.com/profile/tatiailura
ATTENDEE;ROLE=REQ-PARTICIPANT;PARTSTAT=ACCEPTED;RSVP=TRUE;CN="თა _
  მო":https://qwelly.com/profile/tamunashurgaia
ATTENDEE;ROLE=REQ-PARTICIPANT;PARTSTAT=ACCEPTED;RSVP=TRUE;CN="ნა
 ი მორბედაძე":https://qwelly.com/profile/natimorbe
 dadze
ATTENDEE;ROLE=REQ-PARTICIPANT;PARTSTAT=ACCEPTED;RSVP=TRUE;CN=Keti:http
 s://qwelly.com/profile/Keti744
ATTENDEE;ROLE=REQ-PARTICIPANT;PARTSTAT=ACCEPTED;RSVP=TRUE;CN=tamo:http
 s://qwelly.com/profile/tamogogaladze
ATTENDEE;ROLE=REQ-PARTICIPANT;PARTSTAT=ACCEPTED;RSVP=TRUE;CN=BrOliKa:h
 ttps://qwelly.com/profile/BrolikaQiqava
ATTENDEE;ROLE=REQ-PARTICIPANT;PARTSTAT=ACCEPTED;RSVP=TRUE;CN=ლაშ
 ა:https://qwelly.com/profile/lshisa
ATTENDEE;ROLE=REQ-PARTICIPANT;PARTSTAT=TENTATIVE;RSVP=TRUE;CN="mziko k
 hutsishvili":https://qwelly.com/profile/mzikoxucishvili
ATTENDEE;ROLE=REQ-PARTICIPANT;PARTSTAT=TENTATIVE;RSVP=TRUE;CN=shotiko:
 https://qwelly.com/profile/shotiko528
ATTENDEE;ROLE=REQ-PARTICIPANT;PARTSTAT=TENTATIVE;RSVP=TRUE;CN=გვ
 ნცა:https://qwelly.com/profile/gunci
ATTENDEE;ROLE=REQ-PARTICIPANT;PARTSTAT=TENTATIVE;RSVP=TRUE;CN=ან
 :https://qwelly.com/profile/34kuheek94uuq
ATTENDEE;ROLE=REQ-PARTICIPANT;PARTSTAT=TENTATIVE;RSVP=TRUE;CN="Tamila 
 Moshiashvili":https://qwelly.com/profile/TamilaMoshiashvili
ATTENDEE;ROLE=REQ-PARTICIPANT;PARTSTAT=TENTATIVE;RSVP=TRUE;CN=tamuna:h
 ttps://qwelly.com/profile/tamuna967
ATTENDEE;ROLE=REQ-PARTICIPANT;PARTSTAT=TENTATIVE;RSVP=TRUE;CN="merab C
 H.":https://qwelly.com/profile/merabCH
ATTENDEE;ROLE=REQ-PARTICIPANT;PARTSTAT=TENTATIVE;RSVP=TRUE;CN=George:h
 ttps://qwelly.com/profile/qwelly
END:VEVENT
END:VCALENDAR
