BEGIN:VCALENDAR
PRODID:NingEventWidget-v1
VERSION:2.0
METHOD:PUBLISH
BEGIN:VTIMEZONE
TZID:Asia/Tbilisi
X-LIC-LOCATION:Asia/Tbilisi
BEGIN:STANDARD
TZOFFSETFROM:+0400
TZOFFSETTO:+0400
TZNAME:GET
DTSTART:19700101T000000
END:STANDARD
END:VTIMEZONE
BEGIN:VEVENT
UID:6506411:Event:1497052
DTSTAMP:20260421T201509Z
SUMMARY:The 2K League's inaugural combine exclusive
DESCRIPTION:However, he does note that both the hard drives may be les
 s than anticipated. Additionally, Take-Two has so far hasn't shown a l
 ot of  enthusiasm regarding cloud gaming, which means this is a pote
 ntially a pain issue for the company and the fans of its games. NBA 2K
  League finalizes 265-player draft pool for 2021.\r\nThe NBA 2K League
  is currently prepping for the 2021 season. And today, the full list o
 f draft-eligible players for the 2021 2K League Draft was released. Th
 e draft this year features 33 international players, as well as 10 wom
 en. Lakers Gaming holds the No. one pick in the draft on March 13.\r\n
 The 33 international athletes hail from nine countries, which includes
  Australia, Canada, China, France, Germany, Singapore, Spain, Turkey, 
 and the U.K., while the 10 women earned their eligibility using a vari
 ety. The official 2K League website has a complete list for athletes w
 ho are eligible to be drafted. It also provides more about the talent 
 in this year's class by watching the Draft Hopefuls series. Through mu
 ltiple offseason evaluation events teams have had the opportunity to o
 bserve all the players in action.\r\nBrendan Donohue, 2K League Presid
 ent, noted that the offseason assessment process was among our most co
 mprehensive to date. It featured 38 tournaments played by teams as par
 t of the NBA 2K League Draft Prospect Series. Also, there were three i
 nternational qualifying tournaments and an overhauled Women in Gaming 
 initiative. The 2K League's inaugural combine exclusive to athletes wh
 o are eligible for the draft. We're anticipating an exciting draft eve
 ning as our teams include to the roster of 63 best 2K players around t
 he world as we prepare for our fourth season.\r\nThe 2021 draft will l
 ast four rounds long and all 23 teams making up the roster of six play
 ers. There are currently 63 seats available for the 2K League, and the
  draft has been arranged. This draft, the 2K League is making it a ful
 l event, featuring two-on-two MyPark, live interviews with influencers
  like Champ2K, Dominus, and Dribble2Much, and special guests such as 2
  Chainz, NBA champion Robert Horry, Philadelphia 76ers president of 
 basketball operations Daryl Morey, and more making announcements abou
 t select selections.\n\nდამატებითი ინფორ
 მაციისათვის შესვლა https://qwelly.co
 m/events/the-2k-league-s-inaugural-combine-exclusive
DTSTART;TZID=Asia/Tbilisi:20210812T180000
DTEND;TZID=Asia/Tbilisi:20210812T190000
CATEGORIES:game
LOCATION:beijing
WEBSITE:
URL:
CONTACT:
ORGANIZER;CN=Bestmengqin:https://qwelly.com/profile/Bestmengqin
ATTACH;FMTTYPE="image/jpeg":https://storage.ning.com/topology/rest/1.0
 /file/get/9410714678?profile=original
ATTENDEE;ROLE=REQ-PARTICIPANT;PARTSTAT=ACCEPTED;RSVP=TRUE;CN=Bestmengq
 in:https://qwelly.com/profile/Bestmengqin
END:VEVENT
END:VCALENDAR
