BEGIN:VCALENDAR
PRODID:NingEventWidget-v1
VERSION:2.0
METHOD:PUBLISH
BEGIN:VTIMEZONE
TZID:Asia/Tbilisi
X-LIC-LOCATION:Asia/Tbilisi
BEGIN:STANDARD
TZOFFSETFROM:+0400
TZOFFSETTO:+0400
TZNAME:GET
DTSTART:19700101T000000
END:STANDARD
END:VTIMEZONE
BEGIN:VEVENT
UID:6506411:Event:1566815
DTSTAMP:20260422T083014Z
SUMMARY:The Acreage Canyon offers a endless of rewards that admirers c
 an alleviate as they akin up
DESCRIPTION: Season 3 of  additionally brings aback Ultimate Aggregat
 ion programs like Blitz: PREM1ERE and Harvest. These absolute modes ac
 tivity dispatch and achievement boosts, adapted players, and abundant 
 more. The Acreage Canyon offers a endless of rewards that admirers can
  alleviate as they akin up. Prior to this update, EA Sports arise the 
 Madden NFL 25 November application that included several bug fixes and
  gameplay improvements.\r\nMadden NFL 25 has encountered a fair cardin
 al of issues and bugs that acquired the authorization to booty a hit. 
 However, the Assay 3 amend should hopefully be a animation of alpha ai
 r for die-hard fans.\r\nMadden NFL 25  EA's Madden NFL 25 is the compa
 ny's 2023 abundance of the long-running football franchise. Accumulati
 on SAPIEN technology forth with improvements in FieldSENSE and AI, Mad
 den NFL 25 actualization best of the series' staples like Authorizatio
 n and Ultimate Team.\r\nFranchise Madden NFL Platform(s) PC , PS5 , PS
 4 , Xbox Alternation X , Xbox Alternation S , Xbox One Arise August 18
 , 2023 Developer(s) EA Tiburon Publisher(s) EA Genre(s) Sports Metasco
 re 65 Breach Awning Orientation N/A (Shared Screen) Cardinal of Player
 s 1-4 Madden NFL 25 Releases New Update\r\nHighlights The latest Madde
 n NFL 25 amend fixes assorted bugs and issues that players accept noti
 ced aback the game's launch. The amend addresses problems in assorted 
 bold modes, such as Franchise, Superstar, and Madden Ultimate Team, wi
 th fixes for issues like incorrect halftime actualization teams. The a
 pplication additionally includes NFL actuality improvements, with adap
 ted face scans and touchdown celebrations. The gameplay has been tweak
 ed, including changes to interceptions and pass-catching mechanics to 
 abatement abandoned interceptions and causeless catch-drops. MMOexp VI
 DEO OF THE DAYSCROLL TO CONTINUE WITH CONTENT\r\nEA has arise a new Ma
 dden NFL 25 amend that fixes abounding issues with the game. Aback Mad
 den NFL 25 launched, players accept noticed abounding bugs in the game
 , but lots accept been adapted with updates, including today's.\r\nAmo
 ng the bugs that Madden NFL 25 players accept noticed aback it launche
 d are players abridgement through the field, aberrant camera cuts, and
  server adherence errors. Aloft several similarities with beforehand i
 nstallments, there are issues that accept pervaded over the years like
  bugs that are still in Madden NFL 25. These accommodate a abstract bu
 g that causes identical amateur appearances, and players trading for a
 nnihilation in Superstar mode. Although not all of these accept been a
 ddressed by the latest update , abounding problems accept been ironed 
 out.\n\nდამატებითი ინფორმაციი
 ათვის შესვლა https://qwelly.com/events/the-acr
 eage-canyon-offers-a-endless-of-rewards-that-admirers-can
DTSTART;TZID=Asia/Tbilisi:20240708T060000
DTEND;TZID=Asia/Tbilisi:20240710T190000
CATEGORIES:madden, 25, coins, buy
LOCATION:Bundesland auswählen
WEBSITE:
URL:
CONTACT:
ORGANIZER;CN="millan Myra":https://qwelly.com/profile/millanMyra
ATTACH;FMTTYPE="image/jpeg":
ATTENDEE;ROLE=REQ-PARTICIPANT;PARTSTAT=ACCEPTED;RSVP=TRUE;CN="millan M
 yra":https://qwelly.com/profile/millanMyra
END:VEVENT
END:VCALENDAR
