BEGIN:VCALENDAR
PRODID:NingEventWidget-v1
VERSION:2.0
METHOD:PUBLISH
BEGIN:VTIMEZONE
TZID:Asia/Tbilisi
X-LIC-LOCATION:Asia/Tbilisi
BEGIN:STANDARD
TZOFFSETFROM:+0400
TZOFFSETTO:+0400
TZNAME:GET
DTSTART:19700101T000000
END:STANDARD
END:VTIMEZONE
BEGIN:VEVENT
UID:6506411:Event:1566060
DTSTAMP:20260426T020545Z
SUMMARY:The Cleric excels solely is of their basic survivability
DESCRIPTION:The Fighter: A True Swiss Army Knife ClassWhere Rangers ar
 e a brilliant solo elegance because of their overall utility in areas 
 Dark And Darker Gold, ranged fight and pace, Fighters are properly sol
 o instructions because of their widespread software in all areas. Figh
 ters have proper health, true defense, desirable offense, appropriate 
 survivability, top Perks, proper Skills, and are simply all-round pret
 ty excellent. However, be aware how none of their aspects are describe
 d as 'notable' or 'outstanding'.\r\nYes, Fighters are accurate at maxi
 mum things, however they may be not clearly the 'high-quality' at some
  thing in exchange.\r\nWhy Not Barbarian Or Rogue?And ultimately, it n
 eed to be stated that each Barbarian and Rogue can work in solo play, 
 they can even dominate in the proper hands. In fact, with how regularl
 y players see Rogues jogging round by themselves, it'd appear peculiar
  not to have them on here. But, in phrases of their standard playstyle
  and available Skills/Perks, Barbarians and Rogues simply war more in 
 solo vs squad play than the other instructions do.\r\nA Barbarian's sl
 ow interaction velocity, sluggish motion speed, and overall awkward we
 apon hitboxes make it hard to chase or break out enemy gamers. Meanwhi
 le, the Rogue can sneak up on a player without difficulty or even melt
  them before they have a hazard to react relying on what number of sta
 bs they get in, but in the event that they get hit even as soon as, th
 ey're essentially completed for. They're just lessons that shine so mu
 ch extra in a group scenario that it would be a chunk silly to simples
 t use them in solo play.\r\nThe Fighter in Dark in Darker is largely t
 he Mario-type person in Super Smash Bros Ultimate of this recreation i
 f that makes sense. It's the elegance alternative gamers select to ana
 lyze the game earlier than moving directly to the extra robotically un
 ique training. Or, rather, they grow to be sticking with it and coming
  across the man or woman or class' internal complexities. It's the Ryu
  from Street Fighter or the Sol Badguy of Guilty Gear, just to provide
  a few different examples.\r\nBut, as absolutely everyone who has 'pri
 ncipal'ed' any of those characters in fighting video games will say, j
 ust because it's the 'starter' man or woman does not mean that it's ho
 rrificCheap Dark And Darker Gold, simple, or clean to grasp. So, allow
 's smash down the Fighter in Dark and Darker and pass over its standar
 d construct.\n\nდამატებითი ინფორმა
 იისათვის შესვლა https://qwelly.com/events
 /the-cleric
DTSTART;TZID=Asia/Tbilisi:20240701T180000
DTEND;TZID=Asia/Tbilisi:20240701T190000
CATEGORIES:cheap, dark, and, darker, gold
LOCATION:Bundesland auswählen
WEBSITE:
URL:
CONTACT:
ORGANIZER;CN="millan Myra":https://qwelly.com/profile/millanMyra
ATTACH;FMTTYPE="image/jpeg":
ATTENDEE;ROLE=REQ-PARTICIPANT;PARTSTAT=ACCEPTED;RSVP=TRUE;CN="millan M
 yra":https://qwelly.com/profile/millanMyra
END:VEVENT
END:VCALENDAR
