BEGIN:VCALENDAR
PRODID:NingEventWidget-v1
VERSION:2.0
METHOD:PUBLISH
BEGIN:VTIMEZONE
TZID:Asia/Tbilisi
X-LIC-LOCATION:Asia/Tbilisi
BEGIN:STANDARD
TZOFFSETFROM:+0400
TZOFFSETTO:+0400
TZNAME:GET
DTSTART:19700101T000000
END:STANDARD
END:VTIMEZONE
BEGIN:VEVENT
UID:6506411:Event:1566097
DTSTAMP:20260425T225548Z
SUMMARY:The other wing views the Egyptian the King Mo Salah
DESCRIPTION:The other wing views the Egyptian the King Mo Salah as ano
 ther easy option when playing alongside Liverpool EAFC 24 Coins. Like 
 Mane the speed shooting, dribbling and shooting stats are top-quality 
 and the moment the striker gets on his deadly left foot, it's almost c
 ertain to score. Similar to center-forwards, Salah's finishing ability
  is comparable to most attackers, and his 91 position means you'll alw
 ays be on the receiving end of through balls or crosses and is ready t
 o strike whatever is in the box.\r\nWe also have the false nine or the
  deep-lying forward position. While Roberto Firmino has been a central
  figure in the Liverpool team of recent times however, the arrival of 
 Diogo Jota has offered an outstanding option for the top position for 
 the Anfield team. Alongside 85 dribbling and 85 finishing Jota's speed
  of 87 and five-star weak foot which allows him to join the team befor
 e Firmino. He's able to slash through long balls and get around the de
 fenders, whether scoring himself or serving as the two top players on 
 the wing.\r\nThe final FIFA game from EA Sports, FC 24. will be a land
 mark launch for the franchise as well as the world soccer organization
 . The long-running partnership that has been forged between EA with FI
 FA will be ending, which means that EA Sports will take content FIFA i
 s famously known for under a brand new name, EA Sports FC. The charact
 ers on the cover for FC 24's Ultimate Edition were revealed, including
  one player who was on the covers of FIFA titles previously.\r\nPrior 
 to that, FC 24 was leaked via Microsoft Store Microsoft Store and gave
  fans an insight into the game's new features. The first details regar
 ding FC 24 were leaked such as a closed beta version for Xbox One and 
 Xbox Series X|S and a release date that was scheduled on September 30.
  EA quickly responded to leaks on social media with claims of copyrigh
 t, and took off any images that appeared on the internet. But, FIFA pl
 ayers will not be waiting long to hear new information regarding FC 24
 .\r\nEA has revealed the cover stars in FC 24 Ultimate Edition: Paris 
 Saint-Germain forward Kylian Mbappe and Chelsea striker Sam Kerr. Kerr
  is the first female athlete to be featured on the cover of the FIFA t
 itle. Kerr is currently the head of the Australia Women's National Tea
 m, and she's the first female to be awarded the Golden Boot in three d
 ifferent leagues across three continents Fut 24 Coins. The cover also 
 is the third time in a row for Mbappe being named one of the top world
  footballers.\n\nდამატებითი ინფორმა
 იისათვის შესვლა https://qwelly.com/event
 s/the-other-wing-views-the-egyptian-the-king-mo-salah-as-another
DTSTART;TZID=Asia/Tbilisi:20240703T080000
DTEND;TZID=Asia/Tbilisi:20240705T190000
CATEGORIES:eafc, 24, coins, fut
LOCATION:Bundesland auswählen
WEBSITE:
URL:
CONTACT:
ORGANIZER;CN="millan Myra":https://qwelly.com/profile/millanMyra
ATTACH;FMTTYPE="image/jpeg":
ATTENDEE;ROLE=REQ-PARTICIPANT;PARTSTAT=ACCEPTED;RSVP=TRUE;CN="millan M
 yra":https://qwelly.com/profile/millanMyra
END:VEVENT
END:VCALENDAR
