BEGIN:VCALENDAR
PRODID:NingEventWidget-v1
VERSION:2.0
METHOD:PUBLISH
BEGIN:VTIMEZONE
TZID:Asia/Tbilisi
X-LIC-LOCATION:Asia/Tbilisi
BEGIN:STANDARD
TZOFFSETFROM:+0400
TZOFFSETTO:+0400
TZNAME:GET
DTSTART:19700101T000000
END:STANDARD
END:VTIMEZONE
BEGIN:VEVENT
UID:6506411:Event:661656
DTSTAMP:20260421T210025Z
SUMMARY:თბილისის სასულიერო აკა
 დემიისა და სემინარიის  სტუ
 დენტთა სამეცნიერო კონფერ
 ნცია
DESCRIPTION:თბილისის სასულიერო ა
 ადემია-სემინარიაში, 2014 წლი
  3 და 4 აპრილს გაიმართება სტ
 უდენტთა სამეცნიერო კონფე
 ენცია\n \nმომხსენებლები იქ
 ებიან თბილისის სასულიერო 
 აკადემიისა და სემინარიის 
 ა მასთან არსებული საღმრთ
 სმეტყველო ინსტიტუტის ბაკ
 ლავრიატისა და მაგისტრატუ
 რის სტუდენტები.\n \nდაწვრილ
 ბითი ინფორმაცია იხილეთ აქ
  → განრიგი\n\nდამატებითი ინ
 ორმაციისათვის შესვლა https://qw
 elly.com/events/theological-conference
DTSTART;TZID=Asia/Tbilisi:20140403T120000
DTEND;TZID=Asia/Tbilisi:20140404T150000
CATEGORIES:კონფერენცია
LOCATION:თბილისის სასულიერო აკ
 დემია და სემინარია
WEBSITE:
URL:
CONTACT:
ORGANIZER:თბილისის სასულიერო აკ
 დემია და სემინარია
ATTACH;FMTTYPE="image/jpeg":http://storage.ning.com/topology/rest/1.0/
 file/get/2296577265?profile=original
ATTENDEE;ROLE=REQ-PARTICIPANT;PARTSTAT=TENTATIVE;RSVP=TRUE;CN=tsira:ht
 tps://qwelly.com/profile/1ptak0i5687qt
ATTENDEE;ROLE=REQ-PARTICIPANT;PARTSTAT=TENTATIVE;RSVP=TRUE;CN=თა
 არი:https://qwelly.com/profile/tamari865
ATTENDEE;ROLE=REQ-PARTICIPANT;PARTSTAT=TENTATIVE;RSVP=TRUE;CN=ლა
 ა:https://qwelly.com/profile/lshisa
END:VEVENT
END:VCALENDAR
