BEGIN:VCALENDAR
PRODID:NingEventWidget-v1
VERSION:2.0
METHOD:PUBLISH
BEGIN:VTIMEZONE
TZID:Asia/Tbilisi
X-LIC-LOCATION:Asia/Tbilisi
BEGIN:STANDARD
TZOFFSETFROM:+0400
TZOFFSETTO:+0400
TZNAME:GET
DTSTART:19700101T000000
END:STANDARD
END:VTIMEZONE
BEGIN:VEVENT
UID:6506411:Event:1494438
DTSTAMP:20260421T171943Z
SUMMARY:They Ought to fix the shack door that is goblin in Lumbridge
DESCRIPTION:You want to OSRS Items fix the door - you've got some typ
 e of obsession with order, this reflects your culture. If your door ha
 s been broken you'd correct it - so why wouldn't a goblin, right? Soun
 ds benign at first, but this is actually a fairly negative way to look
  in other cultures - that we should respect that not just do the gobli
 ns have a broken shack door but that's how they like it.\r\nIt's legit
 imate to have a broken shack door, having a shack door that is not bro
 ken isn't somehow more valid or reasonable just because that's what we
  grew up with. \"Fixing\" it totally undermines the quiet storytelling
  that's at play. To correct the door would be to take away a part of w
 ho the goblins are.\r\nPrimarily it isn't constructed by or under the 
 authority of goblins. It is negligence on the part of Lumbridge, if we
 're talking within the context of Runescape world. However, the door w
 as operational at one point. It'd utility in Runescape. As there are a
  couple goblin spawns inside of it (as well as an iron dagger spawn). 
 You'd get yelled at if you left the door shut. Because then the goblin
 s will get out. Occasionally levels who had used the goblin shack them
 selves would return to show off how far they'd advanced battle wise.\r
 \nPeople would hang out, chat, form clans, spouse up for things like t
 he shield of arrav pursuit. This was not just a training but a place f
 or low level players. It was that way for ages. Then the devs left the
  door. It was a good thing that they destroyed. That would just be a w
 aste of resources. Not only are there things of a table -. It would be
  flooded.\r\nIf you are playing RuneScape, and you aren't questing - w
 hat are you even getting from it? Some bosses? How can you even love t
 he weight of what it means to fight these bosses if you understand not
 hing about Runescape's lore? What are you bothering to do this for, if
  you training skills? It has been said that electricity has value as i
 t allows the righteous to safeguard the weak - but what's a player wit
 hout utilizing it for Buy RuneScape Gold 30, cultivating power? They 
 are a selfish person only interested in flexing their strength that is
  worthless. Gertrude's Cats are enduring, As you're out there getting 
 200M woodcutting EXP. I hope you are happy.\n\nდამატებ
 თი ინფორმაციისათვის შესვ
 ა https://qwelly.com/events/they-ought-to-fix-the-shack-door-that-
 is-goblin-in-lumbridge
DTSTART;TZID=Asia/Tbilisi:20210702T180000
DTEND;TZID=Asia/Tbilisi:20210703T190000
CATEGORIES:game
LOCATION:beijng
WEBSITE:
URL:
CONTACT:
ORGANIZER;CN=Bestmengqin:https://qwelly.com/profile/Bestmengqin
ATTACH;FMTTYPE="image/jpeg":https://storage.ning.com/topology/rest/1.0
 /file/get/9192534464?profile=original
ATTENDEE;ROLE=REQ-PARTICIPANT;PARTSTAT=ACCEPTED;RSVP=TRUE;CN=ლაშ
 ა:https://qwelly.com/profile/lshisa
ATTENDEE;ROLE=REQ-PARTICIPANT;PARTSTAT=ACCEPTED;RSVP=TRUE;CN=Bestmengq
 in:https://qwelly.com/profile/Bestmengqin
END:VEVENT
END:VCALENDAR
