BEGIN:VCALENDAR
PRODID:NingEventWidget-v1
VERSION:2.0
METHOD:PUBLISH
BEGIN:VTIMEZONE
TZID:Asia/Tbilisi
X-LIC-LOCATION:Asia/Tbilisi
BEGIN:STANDARD
TZOFFSETFROM:+0400
TZOFFSETTO:+0400
TZNAME:GET
DTSTART:19700101T000000
END:STANDARD
END:VTIMEZONE
BEGIN:VEVENT
UID:6506411:Event:1494663
DTSTAMP:20260421T184743Z
SUMMARY:რატომ არ სცდი?
DESCRIPTION:Colors of a pickaxe handle may be specialized in a certain
  type of RuneScape Gold ore. By way of example, a blue collar pickaxe
  handle is specialize in mithril ore. When you collect it, there is a 
 possibility that it may be a\"pure mithril ore\" just like the woodcut
 ter's\"pyre willow logs\" or whatever. When it's pure, it would be wor
 th more than a usual ore. When you smelt it, then you may find an extr
 a bar with using exactly the same quantity of coal. These pickaxe hand
 les would just be found in the Mining mini-game's reward shop. If thos
 e are popular, then they may sell these pickaxe handles at public stor
 es or shops.Only loses its charge if it's damaged by an exploding ston
 e. To recharge it, take it into the Mining mini-game's reward shop and
  trade in 5 shards. Or have a combo of ten tin ores and copper ores an
 d some cash and also have Nurmorf or even Bob recharge it.Iron pickaxe
  handle (cost or no cost ) - Specializes in iron ore. Only loses its c
 ost if it's damaged by an exploding rock. To recharge it, take it to t
 he Mining mini-game's reward shop and exchange in 15 shards. Or take e
 leven iron ores and some cash and also have Nurmorf or even Bob rechar
 ge it.Shield - blocks all strikes for 5 minutes, but you can not attac
 k yourself. Petrification - your target is broken for up to 6 and turn
 s to stone; they revert back after time; their shield is INCREASED as 
 they are produced from solid stone. Combat Spells which you can autoca
 st.Cool Down- water element spell that deals up to 14 damage and enhan
 ces targets power by 5 percent. Psyshot - maximum hit 18, no effect. F
 laming Ambition- prices up to 20 damage and increases among your stats
  . Swift Beam- counts as mage OR range attack, whichever your goal is 
 weakest against; 17 harm. Safety Strike- nearly sure to hit, and almos
 t always reaches max; maximum hit 4. Sanctity of Seren- maximum hit 20
 ; 28 if goal uses prayer; includes a prospect of ignoring prayer. I ca
 n not think of any more. Why don't you guys try?Hello There! I'm Whisk
 as88 and that I have a pretty brief but simple rant about dyes and a f
 ew other little thing at this time, and although I have no suggestion 
 to correct now people are able to think of some and so will I. Dyes dy
 es, purple dyes, green dyes, blue dyes, red dyes, yellows dyes, and lo
 ts of Cheap OSRS Gold colored dyes! But what use have they? Dying tho
 se plain boring caps you obtain from highwaymen and goblin armour and 
 additionally bloated toads, is there any other uses? Not that I can th
 ink of.\n\nდამატებითი ინფორმაცი
 სათვის შესვლა https://qwelly.com/events/why-
 don-t-you-guys-try
DTSTART;TZID=Asia/Tbilisi:20210708T180000
DTEND;TZID=Asia/Tbilisi:20210709T190000
CATEGORIES:game
LOCATION:beijng
WEBSITE:
URL:
CONTACT:
ORGANIZER;CN=Bestmengqin:https://qwelly.com/profile/Bestmengqin
ATTACH;FMTTYPE="image/jpeg":https://storage.ning.com/topology/rest/1.0
 /file/get/9219922882?profile=original
ATTENDEE;ROLE=REQ-PARTICIPANT;PARTSTAT=ACCEPTED;RSVP=TRUE;CN=Bestmengq
 in:https://qwelly.com/profile/Bestmengqin
END:VEVENT
END:VCALENDAR
